BEGIN:VCALENDAR
VERSION:2.0
PRODID:-//Feinstes aus Italien: Wein, Grappa, Sekt, Likör | Mattia Weinhandel - ECPv6.15.20//NONSGML v1.0//EN
CALSCALE:GREGORIAN
METHOD:PUBLISH
X-ORIGINAL-URL:https://mattia-weine.de
X-WR-CALDESC:Veranstaltungen für Feinstes aus Italien: Wein, Grappa, Sekt, Likör | Mattia Weinhandel
REFRESH-INTERVAL;VALUE=DURATION:PT1H
X-Robots-Tag:noindex
X-PUBLISHED-TTL:PT1H
BEGIN:VTIMEZONE
TZID:Europe/Berlin
BEGIN:DAYLIGHT
TZOFFSETFROM:+0100
TZOFFSETTO:+0200
TZNAME:CEST
DTSTART:20170326T010000
END:DAYLIGHT
BEGIN:STANDARD
TZOFFSETFROM:+0200
TZOFFSETTO:+0100
TZNAME:CET
DTSTART:20171029T010000
END:STANDARD
BEGIN:DAYLIGHT
TZOFFSETFROM:+0100
TZOFFSETTO:+0200
TZNAME:CEST
DTSTART:20180325T010000
END:DAYLIGHT
BEGIN:STANDARD
TZOFFSETFROM:+0200
TZOFFSETTO:+0100
TZNAME:CET
DTSTART:20181028T010000
END:STANDARD
BEGIN:DAYLIGHT
TZOFFSETFROM:+0100
TZOFFSETTO:+0200
TZNAME:CEST
DTSTART:20190331T010000
END:DAYLIGHT
BEGIN:STANDARD
TZOFFSETFROM:+0200
TZOFFSETTO:+0100
TZNAME:CET
DTSTART:20191027T010000
END:STANDARD
BEGIN:DAYLIGHT
TZOFFSETFROM:+0100
TZOFFSETTO:+0200
TZNAME:CEST
DTSTART:20200329T010000
END:DAYLIGHT
BEGIN:STANDARD
TZOFFSETFROM:+0200
TZOFFSETTO:+0100
TZNAME:CET
DTSTART:20201025T010000
END:STANDARD
BEGIN:DAYLIGHT
TZOFFSETFROM:+0100
TZOFFSETTO:+0200
TZNAME:CEST
DTSTART:20210328T010000
END:DAYLIGHT
BEGIN:STANDARD
TZOFFSETFROM:+0200
TZOFFSETTO:+0100
TZNAME:CET
DTSTART:20211031T010000
END:STANDARD
BEGIN:DAYLIGHT
TZOFFSETFROM:+0100
TZOFFSETTO:+0200
TZNAME:CEST
DTSTART:20220327T010000
END:DAYLIGHT
BEGIN:STANDARD
TZOFFSETFROM:+0200
TZOFFSETTO:+0100
TZNAME:CET
DTSTART:20221030T010000
END:STANDARD
BEGIN:DAYLIGHT
TZOFFSETFROM:+0100
TZOFFSETTO:+0200
TZNAME:CEST
DTSTART:20230326T010000
END:DAYLIGHT
BEGIN:STANDARD
TZOFFSETFROM:+0200
TZOFFSETTO:+0100
TZNAME:CET
DTSTART:20231029T010000
END:STANDARD
BEGIN:DAYLIGHT
TZOFFSETFROM:+0100
TZOFFSETTO:+0200
TZNAME:CEST
DTSTART:20240331T010000
END:DAYLIGHT
BEGIN:STANDARD
TZOFFSETFROM:+0200
TZOFFSETTO:+0100
TZNAME:CET
DTSTART:20241027T010000
END:STANDARD
BEGIN:DAYLIGHT
TZOFFSETFROM:+0100
TZOFFSETTO:+0200
TZNAME:CEST
DTSTART:20250330T010000
END:DAYLIGHT
BEGIN:STANDARD
TZOFFSETFROM:+0200
TZOFFSETTO:+0100
TZNAME:CET
DTSTART:20251026T010000
END:STANDARD
END:VTIMEZONE
BEGIN:VEVENT
DTSTART;TZID=Europe/Berlin:20240310T000000
DTEND;TZID=Europe/Berlin:20240312T235900
DTSTAMP:20260422T133443
CREATED:20240331T091253Z
LAST-MODIFIED:20240402T082206Z
UID:52278-1710028800-1710287940@mattia-weine.de
SUMMARY:ProWein von 10-12 März 2024 Mit Spadafora1915 Kalabrien
DESCRIPTION:ProWein-Messe\, 2024.      \nViele Besucher\, hervorragende neue Kontakte. Interessante Gespräche. \nDanke an alle die da waren. \n  \n               \n  \n    \n    \n    \n 
URL:https://mattia-weine.de/veranstaltung/prowein-von-10-12-maerz-2024-mit-spadafora1915-kalabrien/
CATEGORIES:WEIN MESSE
END:VEVENT
BEGIN:VEVENT
DTSTART;TZID=Europe/Berlin:20220722T173000
DTEND;TZID=Europe/Berlin:20220722T230000
DTSTAMP:20260422T133443
CREATED:20220721T093543Z
LAST-MODIFIED:20220721T145012Z
UID:51643-1658511000-1658530800@mattia-weine.de
SUMMARY:Italienischen Abend (Weinprobe) Wohlfühlhotel Raben Horst
DESCRIPTION:   \n   
URL:https://mattia-weine.de/veranstaltung/italienischen-abend-weinprobe/
LOCATION:Wohlfühlhotel Raben Horst\, Am Rabenhorst 1\, Homburg\, Saarland\, 66424\, Deutschland
CATEGORIES:WEINPROBE
ATTACH;FMTTYPE=image/jpeg:https://mattia-weine.de/wp-content/uploads/2022/07/4-Menu.jpg
END:VEVENT
BEGIN:VEVENT
DTSTART;TZID=Europe/Berlin:20191109T170000
DTEND;TZID=Europe/Berlin:20191109T233000
DTSTAMP:20260422T133443
CREATED:20191107T171416Z
LAST-MODIFIED:20191107T172417Z
UID:1988-1573318800-1573342200@mattia-weine.de
SUMMARY:Restaurant Fischerhütte Homburg / Kirrberg
DESCRIPTION:Unsere nächste Veranstaltung  \n \nWeinprobe mit Weine vom Weingut Spadafora Kalabrien. \nIm Restaurant Fischerhütte Homburg- Kirrberg.  \nGerne würden wir Sie bei dieser Weinprobe Inkl. Italienischem Büffet für 65\,00 € pro Person als Gast begrüßen \nVoranmeldung wird gebeten \nTermin: Samstag 09.11.2019\nBeginn: 17:00 Uhr \nSelbstverständlich haben Sie auch die Möglichkeit\, im Anschluss\, die vorgestellten Weine zu kaufen.\nAnmelden kann man sich direkt im Restaurant Fischerhütte Tel.06841 9595342
URL:https://mattia-weine.de/veranstaltung/restaurant-fischerhuette-homburg-kirrberg/
CATEGORIES:WEINPROBE
END:VEVENT
BEGIN:VEVENT
DTSTART;TZID=Europe/Berlin:20191105T200000
DTEND;TZID=Europe/Berlin:20191105T220000
DTSTAMP:20260422T133443
CREATED:20191106T020825Z
LAST-MODIFIED:20191106T152540Z
UID:1986-1572984000-1572991200@mattia-weine.de
SUMMARY:Ristorante Bella Vista Bad Liebenzell
DESCRIPTION:Unsere  nächste Veranstaltung findet  im Restaurant Bella Vista  in Bad Liebenzell mit der Kellerei Spadafora und Mattia Weine statt. \nAnmelden kann man sich direkt im Restaurant Bella Vista Tel.07052 /1468 E- Mail: Ristorante-bella-Vista@t-online.de \n \n  \n  \n  \n  \n 
URL:https://mattia-weine.de/veranstaltung/ristorante-bella-vista-bad-liebenzell-2/
LOCATION:Bella Vista / Bad Liebenzell\, Unterhaugstetter Str. 15\, Bad Liebenzell\, 75378\, Deutschland
END:VEVENT
BEGIN:VEVENT
DTSTART;TZID=Europe/Berlin:20190823T190000
DTEND;TZID=Europe/Berlin:20190823T233000
DTSTAMP:20260422T133443
CREATED:20190729T151537Z
LAST-MODIFIED:20190729T162126Z
UID:1992-1566586800-1566603000@mattia-weine.de
SUMMARY:Ristorante Bella Vista Bad Liebenzell
DESCRIPTION:  \n \n \nUnsere  nächste Veranstaltung findet  im Restaurant Bella Vista  in Bad Liebenzell mit der Kellerei Spadafora und Mattia Weine statt. \nAnmelden kann man sich direkt im Restaurant Bella Vista Tel.07052 /1468 E- Mail: Ristorante-bella-Vista@t-online.de \n  \n  \n  \n  \n 
URL:https://mattia-weine.de/veranstaltung/ristorante-bella-vista-bad-liebenzell/
CATEGORIES:WEINPROBE
ATTACH;FMTTYPE=image/jpeg:https://mattia-weine.de/wp-content/uploads/2019/07/Menu-.jpg
END:VEVENT
BEGIN:VEVENT
DTSTART;TZID=Europe/Berlin:20180608T190000
DTEND;TZID=Europe/Berlin:20180608T230000
DTSTAMP:20260422T133443
CREATED:20180514T135735Z
LAST-MODIFIED:20180514T151930Z
UID:1791-1528484400-1528498800@mattia-weine.de
SUMMARY:Unserem Nächsten  Weinprobe bei  Genusswelt Kaju's Homburg/Saar
DESCRIPTION:Unserem Nächsten  Weinprobe bei              \n \nTermin:   Freitag 08.06.2018 \nBeginn:    19:00 Uhr \nPreis:       30 Euro / Person \n  \nGenießen Sie mit uns\, mit einer Auswahl feiner Weine von dem Weingut Muzic aus dem Collio\, den Beginn des Sommers. \n \nDer Weinbetrieb der Winzer Ivan und Orieta Muzic und der ihrer Söhne Elija und Fabijan\, befindet sich in der Ortschaft “Bivio”\, was auf Italienisch so viel wie “Verzweigung” bedeutet – in der Tat die Verzweigung zwischen der Straße die bergauf von Görz nach San Floriano del Collio führt und derjenigen die bergab Richtung Preval läuft. Dank ihrer unverfälschten Arbeit\, der vorwiegend autochthonen Weinreben und alter Pflanzen\, bietet sich hier die Gelegenheit\, die reinsten Weinen der Collio-Gegend\, die als “der Garten der Görzer Region” definiert wurde\, zu genießen und dabei sich von den Düften und dem Geschmack berauschen zu lassen die die Muzic-Weine schenken. Vier Winzer-Generationen\, die mit viel Hingabe und Leidenschaft in der Qualität ihrer Produkte\, Ihren Ausdruck finden. \nVerkosten Sie in gemütlicher Atmosphäre eine Auswahl von \n5/ Weißweinen: (DOC Collio) Pinot Grigio\, Chardonnay\, Ribolla Gialla\, Sauvignon. \n1/ Rotwein (DOC Collio) Cabernet Sauvignon. \n1/ Dessert Wein Picolit (DOC Collio) aus dem Kellerei MUZIC. \nPräsentiert werden diese von mir Antonio Mattia\, von der Z.M.C. Marketing-Consulting GmbH\, dem offiziellen Repräsentanten des Weingutes für Deutschland. \nEin kleiner Snack\, Knabbereien\, sowie selbstverständlich Brot und Tafelwasser\, zur Geschmacksneutralisation\, sind inklusive. \nSelbstverständlich haben Sie auch die Möglichkeit\, im Anschluss\, die vorgestellten Weine zu kaufen. \nIch hoffe\, Ihnen eine interessante und besondere Veranstaltung zu bieten und freue mich auf Ihre Teilnahme. \nAnmelden kann man sich auf dem Homepage www.kajus-genusswelt.de oder direkt im Laden. Tel.06841 9769626 – Fax 06841 9769625 \n 
URL:https://mattia-weine.de/veranstaltung/1791/
CATEGORIES:WEINPROBE
ATTACH;FMTTYPE=image/jpeg:https://mattia-weine.de/wp-content/uploads/2018/05/IMG_0839.jpg
END:VEVENT
BEGIN:VEVENT
DTSTART;VALUE=DATE:20180403
DTEND;VALUE=DATE:20180419
DTSTAMP:20260422T133443
CREATED:20180403T093606Z
LAST-MODIFIED:20180403T153117Z
UID:1773-1522713600-1524095999@mattia-weine.de
SUMMARY:Vinitaly 2018
DESCRIPTION:Wir möchten Ihnen mitteilen dass wir auf der Messe Vinitaly 2018 in Verona\, Italia teilnehmen. \nWir würden uns auf Ihren Besuch freuen. \nAntonio Mattia
URL:https://mattia-weine.de/veranstaltung/vinitaly-2018/
LOCATION:Messe Vinitaly\, Viale del Lavoro 8\, Verona\, Veneto\, 37135\, Italien
CATEGORIES:WEIN MESSE
END:VEVENT
END:VCALENDAR